BEGIN:VCALENDAR
VERSION:2.0
PRODID:-//eventon.com NONSGML v1.0//EN
BEGIN:VEVENT
UID:69e9bd80aba29
DTSTAMP:20260423T083440
DTSTART:20220517T200000Z
DTEND:20220518T040000Z
TZID:Pacific/Midway
LOCATION:
SUMMARY:EFL Jahrestagung 2022
DESCRIPTION: Die nächste ÖVEFL-Jahrestagung findet am 17. Mai 2022 im AUVA Rehabilitationszentrum Weißer Hof in Klosterneuburg statt. Wir hoffen\,  für Sie wieder ein ansprechendes Programm gestaltet zu haben. Sie finden es hier: EFL Jahrestagung 2022 Einladung\nhttps://www.efl-verein.at/events/efl-jahrestagung-2022/
URL:https://www.efl-verein.at/events/efl-jahrestagung-2022/
END:VEVENT
END:VCALENDAR