BEGIN:VCALENDAR
VERSION:2.0
PRODID:-//eventon.com NONSGML v1.0//EN
BEGIN:VEVENT
UID:69e989dea5af5
DTSTAMP:20260423T045422
DTSTART:20230419T070000Z
DTEND:20230419T150000Z
TZID:Europe/Vienna
LOCATION:
SUMMARY:13. EFL Jahrestagung 19. April 2023
DESCRIPTION: EFL Jahrestagung 2023 Wir freuen uns\,  Sie zur 13. Jahrestagung des ÖVEFL einzuladen. Unter dem obigen Link finden Sie das Programm.\nhttps://www.efl-verein.at/events/13-efl-jahrestagung-19-april-2023/
URL:https://www.efl-verein.at/events/13-efl-jahrestagung-19-april-2023/
END:VEVENT
END:VCALENDAR